BEGIN:VCALENDAR
VERSION:2.0
PRODID:icalendar-ruby
CALSCALE:GREGORIAN
METHOD:PUBLISH
BEGIN:VEVENT
DTSTAMP:20260421T163621Z
UID:14-219046@bairnsdalebaptist.org.au
DTSTART:20260328T230000Z
DTEND:20260329T010000Z
CLASS:PUBLIC
CREATED:20260422T004927
DESCRIPTION:Join us each Sunday 10am as we encourage each other in the hope
  we profess in Jesus.\nJoin us as we delve into God's word\, share in song
 \, prayer and communion together.\nThen stay for morning tea!\nWe also hav
 e Kids Programs available during the service for primary school aged child
 ren and children not yet at school.
LAST-MODIFIED:20260422T004927
LOCATION:132 Princes Highway\, Lucknow
SUMMARY:Church @ 10am
URL;VALUE=URI:https://www.bairnsdalebaptist.org.au/events/church-10am/2026-
 03-29
ATTACH;FILENAME=3.jpg;FMTTYPE=image/jpeg:https://dq5pwpg1q8ru0.cloudfront.n
 et/2026/04/17/03/55/29/f493fee3-9ebc-4edb-9ff4-97ed3c2b4dc2/3.jpg
END:VEVENT
END:VCALENDAR
