BEGIN:VCALENDAR
VERSION:2.0
PRODID:icalendar-ruby
CALSCALE:GREGORIAN
METHOD:PUBLISH
BEGIN:VEVENT
DTSTAMP:20260424T213341Z
UID:99-221505@bairnsdalebaptist.org.au
DTSTART:20261108T060000Z
DTEND:20261108T080000Z
CLASS:PUBLIC
CREATED:20260425T065712
DESCRIPTION:Join us each Sunday 5pm as we discover more about Jesus and lif
 e with Him.\nJoin our church community as we delve into God's word\, share
  in song\, prayer and communion together.\nEverybody's welcome!
LAST-MODIFIED:20260425T065712
LOCATION:134 Princes Highway\, Lucknow Victoria
SUMMARY:Church @ 5pm
URL;VALUE=URI:https://www.bairnsdalebaptist.org.au/events/church-5pm/2026-1
 1-08
ATTACH;FILENAME=2.jpg;FMTTYPE=image/jpeg:https://dq5pwpg1q8ru0.cloudfront.n
 et/2026/04/17/03/51/57/148d5434-2f4a-4fe0-a6c1-078e28493758/2.jpg
END:VEVENT
END:VCALENDAR
