BEGIN:VCALENDAR
VERSION:2.0
PRODID:icalendar-ruby
CALSCALE:GREGORIAN
METHOD:PUBLISH
BEGIN:VEVENT
DTSTAMP:20260421T083638Z
UID:96-214074@bairnsdalebaptist.org.au
DTSTART:20260522T080000Z
DTEND:20260522T110000Z
CLASS:PUBLIC
CREATED:20260414T135329
DESCRIPTION:Come along and get ready for SYG!!\nDinner\, Bible Discussion a
 nd Games included.\n$5.00
LAST-MODIFIED:20260414T135329
LOCATION:Bairnsdale Baptist Church
SUMMARY:Youth Group - SYG Launch
URL;VALUE=URI:https://www.bairnsdalebaptist.org.au/events/youth-group-syg-l
 aunch--96/2026-05-22
ATTACH;FILENAME=5.png;FMTTYPE=image/png:https://dq5pwpg1q8ru0.cloudfront.ne
 t/2026/04/14/03/53/29/e190fa90-06bf-4b00-b7fc-a74f8b4ad47b/5.png
END:VEVENT
END:VCALENDAR
